BEGIN:VCALENDAR
VERSION:2.0
PRODID:-//Sadie&#039;s of New Mexico - ECPv6.15.14//NONSGML v1.0//EN
CALSCALE:GREGORIAN
METHOD:PUBLISH
X-WR-CALNAME:Sadie&#039;s of New Mexico
X-ORIGINAL-URL:https://www.sadiesofnewmexico.com
X-WR-CALDESC:Events for Sadie&#039;s of New Mexico
REFRESH-INTERVAL;VALUE=DURATION:PT1H
X-Robots-Tag:noindex
X-PUBLISHED-TTL:PT1H
BEGIN:VTIMEZONE
TZID:UTC
BEGIN:STANDARD
TZOFFSETFROM:+0000
TZOFFSETTO:+0000
TZNAME:UTC
DTSTART:20250101T000000
END:STANDARD
END:VTIMEZONE
BEGIN:VEVENT
DTSTART;TZID=UTC:20260418T180000
DTEND;TZID=UTC:20260418T210000
DTSTAMP:20260421T092504
CREATED:20260330T141217Z
LAST-MODIFIED:20260330T141217Z
UID:3469-1776535200-1776546000@www.sadiesofnewmexico.com
SUMMARY:Hoedown on 4th Street
DESCRIPTION:Join us for live country music\, special food\, drinks\, dancing\, and awesome giveaways!
URL:https://www.sadiesofnewmexico.com/event/hoedown-on-4th-street/
END:VEVENT
END:VCALENDAR