BEGIN:VCALENDAR
VERSION:2.0
PRODID:-//Sadie&#039;s of New Mexico - ECPv6.15.14//NONSGML v1.0//EN
CALSCALE:GREGORIAN
METHOD:PUBLISH
X-WR-CALNAME:Sadie&#039;s of New Mexico
X-ORIGINAL-URL:https://www.sadiesofnewmexico.com
X-WR-CALDESC:Events for Sadie&#039;s of New Mexico
REFRESH-INTERVAL;VALUE=DURATION:PT1H
X-Robots-Tag:noindex
X-PUBLISHED-TTL:PT1H
BEGIN:VTIMEZONE
TZID:UTC
BEGIN:STANDARD
TZOFFSETFROM:+0000
TZOFFSETTO:+0000
TZNAME:UTC
DTSTART:20220101T000000
END:STANDARD
END:VTIMEZONE
BEGIN:VEVENT
DTSTART;TZID=UTC:20240505T110000
DTEND;TZID=UTC:20240505T140000
DTSTAMP:20260421T054635
CREATED:20240429T173443Z
LAST-MODIFIED:20240503T182757Z
UID:2018-1714906800-1714917600@www.sadiesofnewmexico.com
SUMMARY:Otilio Ruiz
DESCRIPTION:
URL:https://www.sadiesofnewmexico.com/event/otilio-ruiz/
END:VEVENT
BEGIN:VEVENT
DTSTART;TZID=UTC:20240504T180000
DTEND;TZID=UTC:20240504T200000
DTSTAMP:20260421T054635
CREATED:20240429T172922Z
LAST-MODIFIED:20240429T173020Z
UID:2016-1714845600-1714852800@www.sadiesofnewmexico.com
SUMMARY:Jamie Harrison
DESCRIPTION:Live music on the patio
URL:https://www.sadiesofnewmexico.com/event/jamie-harrison-4/
END:VEVENT
BEGIN:VEVENT
DTSTART;TZID=UTC:20240503T180000
DTEND;TZID=UTC:20240503T200000
DTSTAMP:20260421T054635
CREATED:20240429T172646Z
LAST-MODIFIED:20240429T172646Z
UID:2014-1714759200-1714766400@www.sadiesofnewmexico.com
SUMMARY:Jamie Harrison
DESCRIPTION:Live music on the Patio
URL:https://www.sadiesofnewmexico.com/event/jamie-harrison-3/
END:VEVENT
BEGIN:VEVENT
DTSTART;TZID=UTC:20240502T180000
DTEND;TZID=UTC:20240502T200000
DTSTAMP:20260421T054635
CREATED:20240429T172602Z
LAST-MODIFIED:20240429T172602Z
UID:2012-1714672800-1714680000@www.sadiesofnewmexico.com
SUMMARY:Shane Wallin
DESCRIPTION:Live music on the patio
URL:https://www.sadiesofnewmexico.com/event/shane-wallin/
END:VEVENT
BEGIN:VEVENT
DTSTART;TZID=UTC:20240418T180000
DTEND;TZID=UTC:20240418T200000
DTSTAMP:20260421T054635
CREATED:20240228T235858Z
LAST-MODIFIED:20240228T235858Z
UID:1977-1713463200-1713470400@www.sadiesofnewmexico.com
SUMMARY:Turner and Grimes
DESCRIPTION:Live Music on the Patio with Turner and Grimes
URL:https://www.sadiesofnewmexico.com/event/turner-and-grimes/
END:VEVENT
BEGIN:VEVENT
DTSTART;TZID=UTC:20240412T180000
DTEND;TZID=UTC:20240412T200000
DTSTAMP:20260421T054635
CREATED:20240307T152250Z
LAST-MODIFIED:20240411T223743Z
UID:1988-1712944800-1712952000@www.sadiesofnewmexico.com
SUMMARY:Jamie Harrison
DESCRIPTION:Live music on our patio with Jamie Harrison
URL:https://www.sadiesofnewmexico.com/event/lyrique-vocal-duo/
END:VEVENT
BEGIN:VEVENT
DTSTART;TZID=UTC:20240405T180000
DTEND;TZID=UTC:20240405T200000
DTSTAMP:20260421T054635
CREATED:20240228T235949Z
LAST-MODIFIED:20240228T235949Z
UID:1979-1712340000-1712347200@www.sadiesofnewmexico.com
SUMMARY:Jamie Harrison
DESCRIPTION:Live Music on the Patio with Jamie Harrison
URL:https://www.sadiesofnewmexico.com/event/jamie-harrison-2/
END:VEVENT
BEGIN:VEVENT
DTSTART;TZID=UTC:20240329T180000
DTEND;TZID=UTC:20240329T200000
DTSTAMP:20260421T054635
CREATED:20240228T235552Z
LAST-MODIFIED:20240326T151921Z
UID:1975-1711735200-1711742400@www.sadiesofnewmexico.com
SUMMARY:Jamie Harrison
DESCRIPTION:Live Music on the Patio with Jamie Harrison
URL:https://www.sadiesofnewmexico.com/event/lyrique-vocal-group-2/
END:VEVENT
BEGIN:VEVENT
DTSTART;TZID=UTC:20240322T180000
DTEND;TZID=UTC:20240322T200000
DTSTAMP:20260421T054635
CREATED:20240228T235357Z
LAST-MODIFIED:20240307T152119Z
UID:1973-1711130400-1711137600@www.sadiesofnewmexico.com
SUMMARY:Lyrique Music Duo
DESCRIPTION:Live Music on the Patio with Lyrique Music Duo
URL:https://www.sadiesofnewmexico.com/event/lyrique-music-group/
END:VEVENT
BEGIN:VEVENT
DTSTART;TZID=UTC:20240315T180000
DTEND;TZID=UTC:20240315T200000
DTSTAMP:20260421T054635
CREATED:20240228T234607Z
LAST-MODIFIED:20240228T234607Z
UID:1971-1710525600-1710532800@www.sadiesofnewmexico.com
SUMMARY:Ronaldo Baca
DESCRIPTION:Live Music on the Patio with Ronaldo Baca
URL:https://www.sadiesofnewmexico.com/event/ronaldo-baca/
END:VEVENT
BEGIN:VEVENT
DTSTART;TZID=UTC:20240308T180000
DTEND;TZID=UTC:20240308T200000
DTSTAMP:20260421T054635
CREATED:20240228T234514Z
LAST-MODIFIED:20240228T234514Z
UID:1969-1709920800-1709928000@www.sadiesofnewmexico.com
SUMMARY:Flat Champagne
DESCRIPTION:Live Music on the Patio with Flat Champagne
URL:https://www.sadiesofnewmexico.com/event/flat-champagne-2/
END:VEVENT
BEGIN:VEVENT
DTSTART;TZID=UTC:20240301T180000
DTEND;TZID=UTC:20240301T200000
DTSTAMP:20260421T054635
CREATED:20240302T003419Z
LAST-MODIFIED:20240302T003419Z
UID:1981-1709316000-1709323200@www.sadiesofnewmexico.com
SUMMARY:Lyrique Music Group
DESCRIPTION:Live music on our patio with Lyrique Music Group
URL:https://www.sadiesofnewmexico.com/event/lyrique-music-group-2/
END:VEVENT
BEGIN:VEVENT
DTSTART;TZID=UTC:20240216T180000
DTEND;TZID=UTC:20240216T200000
DTSTAMP:20260421T054635
CREATED:20240203T042119Z
LAST-MODIFIED:20240212T234041Z
UID:1958-1708106400-1708113600@www.sadiesofnewmexico.com
SUMMARY:John Martinez
DESCRIPTION:Live music in our Outdoor Patio
URL:https://www.sadiesofnewmexico.com/event/john-martinez-2/
ATTACH;FMTTYPE=image/png:https://www.sadiesofnewmexico.com/wp-content/uploads/2024/02/s1-9.png
END:VEVENT
BEGIN:VEVENT
DTSTART;TZID=UTC:20240209T180000
DTEND;TZID=UTC:20240209T200000
DTSTAMP:20260421T054635
CREATED:20240126T194731Z
LAST-MODIFIED:20240203T041857Z
UID:1948-1707501600-1707508800@www.sadiesofnewmexico.com
SUMMARY:Flat Champagne
DESCRIPTION:Live Music in our Outdoor Patio at Sadie’s on 4th Street
URL:https://www.sadiesofnewmexico.com/event/flat-champagne/
ATTACH;FMTTYPE=image/png:https://www.sadiesofnewmexico.com/wp-content/uploads/2024/01/s13.png
END:VEVENT
BEGIN:VEVENT
DTSTART;TZID=UTC:20240202T180000
DTEND;TZID=UTC:20240202T200000
DTSTAMP:20260421T054635
CREATED:20240126T194426Z
LAST-MODIFIED:20240127T185340Z
UID:1946-1706896800-1706904000@www.sadiesofnewmexico.com
SUMMARY:Jamie Harrison
DESCRIPTION:Live Music in our Outdoor Patio at Sadie’s on 4th Street
URL:https://www.sadiesofnewmexico.com/event/jamie-harrison/
ATTACH;FMTTYPE=image/png:https://www.sadiesofnewmexico.com/wp-content/uploads/2024/01/s12.png
END:VEVENT
BEGIN:VEVENT
DTSTART;TZID=UTC:20240126T180000
DTEND;TZID=UTC:20240126T200000
DTSTAMP:20260421T054635
CREATED:20240124T172631Z
LAST-MODIFIED:20240125T144057Z
UID:1935-1706292000-1706299200@www.sadiesofnewmexico.com
SUMMARY:Flat Champagne Live
DESCRIPTION:Join us for live music in our patio featuring Flat Champagne!
URL:https://www.sadiesofnewmexico.com/event/flat-champagne-live/
ATTACH;FMTTYPE=image/png:https://www.sadiesofnewmexico.com/wp-content/uploads/2024/01/F74B6E45-3E00-428B-9EB2-A866688AFCFF.png
END:VEVENT
BEGIN:VEVENT
DTSTART;TZID=UTC:20240119T180000
DTEND;TZID=UTC:20240119T200000
DTSTAMP:20260421T054635
CREATED:20231228T181912Z
LAST-MODIFIED:20240116T022843Z
UID:1902-1705687200-1705694400@www.sadiesofnewmexico.com
SUMMARY:Turner and Grimes
DESCRIPTION:
URL:https://www.sadiesofnewmexico.com/event/truner-and-grimes/
LOCATION:Sadie’s on 4th St.\, 6230 Fourth St\, Albuquerque\, NM\, 87107\, United States
ATTACH;FMTTYPE=image/png:https://www.sadiesofnewmexico.com/wp-content/uploads/2023/12/s1-2-1.png
END:VEVENT
BEGIN:VEVENT
DTSTART;TZID=UTC:20240112T180000
DTEND;TZID=UTC:20240112T200000
DTSTAMP:20260421T054635
CREATED:20231228T181725Z
LAST-MODIFIED:20240112T162239Z
UID:1900-1705082400-1705089600@www.sadiesofnewmexico.com
SUMMARY:Eryn Bent
DESCRIPTION:Music on our heated Patio
URL:https://www.sadiesofnewmexico.com/event/eryn-bent/
ATTACH;FMTTYPE=image/png:https://www.sadiesofnewmexico.com/wp-content/uploads/2023/12/s1-3.png
END:VEVENT
BEGIN:VEVENT
DTSTART;TZID=UTC:20240105T180000
DTEND;TZID=UTC:20240105T200000
DTSTAMP:20260421T054635
CREATED:20231228T181609Z
LAST-MODIFIED:20231228T181609Z
UID:1898-1704477600-1704484800@www.sadiesofnewmexico.com
SUMMARY:Shannon Lee
DESCRIPTION:Music on our heated Patio
URL:https://www.sadiesofnewmexico.com/event/shannon-lee/
END:VEVENT
BEGIN:VEVENT
DTSTART;TZID=UTC:20231229T180000
DTEND;TZID=UTC:20231229T200000
DTSTAMP:20260421T054635
CREATED:20231229T181531Z
LAST-MODIFIED:20231229T173901Z
UID:1896-1703872800-1703880000@www.sadiesofnewmexico.com
SUMMARY:John Martinez
DESCRIPTION:Music on our heated patio
URL:https://www.sadiesofnewmexico.com/event/john-martinez/
END:VEVENT
BEGIN:VEVENT
DTSTART;TZID=UTC:20231222T180000
DTEND;TZID=UTC:20231222T200000
DTSTAMP:20260421T054635
CREATED:20231219T225412Z
LAST-MODIFIED:20231219T225507Z
UID:1891-1703268000-1703275200@www.sadiesofnewmexico.com
SUMMARY:Cat Grace
DESCRIPTION:
URL:https://www.sadiesofnewmexico.com/event/cat-grace/
LOCATION:Sadie’s on 4th St.\, 6230 Fourth St\, Albuquerque\, NM\, 87107\, United States
ATTACH;FMTTYPE=image/jpeg:https://www.sadiesofnewmexico.com/wp-content/uploads/2023/12/cat.jpg
END:VEVENT
BEGIN:VEVENT
DTSTART;TZID=UTC:20231111T110000
DTEND;TZID=UTC:20231111T220000
DTSTAMP:20260421T054635
CREATED:20231110T035921Z
LAST-MODIFIED:20231110T035921Z
UID:1877-1699700400-1699740000@www.sadiesofnewmexico.com
SUMMARY:Veteran's Day Meal
DESCRIPTION:Happy Veterans Day! \nSaturday\, 11/11 we invite all Veterans to enjoy a free meal at Sadie’s on 4th. The Veterans menu will be served all day from 11 am – 10 pm. \nThank you for your service!
URL:https://www.sadiesofnewmexico.com/event/veterans-day-meal/
LOCATION:Sadie’s on 4th St.\, 6230 Fourth St\, Albuquerque\, NM\, 87107\, United States
ATTACH;FMTTYPE=application/pdf:https://www.sadiesofnewmexico.com/wp-content/uploads/2023/11/VETERANS-DAY-MENU-23.pdf
END:VEVENT
BEGIN:VEVENT
DTSTART;TZID=UTC:20231013T180000
DTEND;TZID=UTC:20231013T210000
DTSTAMP:20260421T054635
CREATED:20230906T161427Z
LAST-MODIFIED:20231003T162326Z
UID:1824-1697220000-1697230800@www.sadiesofnewmexico.com
SUMMARY:Live Music on the Patio
DESCRIPTION:Get ready to groove the night away with the electrifying sounds of Flat Champagne\, taking the stage from 6 – 9 pm Friday night! Let the music move you as you savor delicious bites and refreshing drinks. See you there!
URL:https://www.sadiesofnewmexico.com/event/live-music-on-the-patio/
LOCATION:Sadie’s on 4th St.\, 6230 Fourth St\, Albuquerque\, NM\, 87107\, United States
ATTACH;FMTTYPE=image/png:https://www.sadiesofnewmexico.com/wp-content/uploads/2023/09/flatChampagne.png
END:VEVENT
BEGIN:VEVENT
DTSTART;TZID=UTC:20230901T233000
DTEND;TZID=UTC:20230902T023000
DTSTAMP:20260421T054635
CREATED:20230807T172006Z
LAST-MODIFIED:20230830T200111Z
UID:1805-1693611000-1693621800@www.sadiesofnewmexico.com
SUMMARY:Labor Day Weekend Margaritas y Musica
DESCRIPTION:? Celebrate your Labor Day weekend with us at “Margaritas y Musica” – Live Music by Lyrique Music Group on the Patio at Sadie’s 4th St. Don’t miss the fiesta! ?
URL:https://www.sadiesofnewmexico.com/event/margaritas-con-musica-4/
LOCATION:Sadie’s on 4th St.\, 6230 Fourth St\, Albuquerque\, NM\, 87107\, United States
ATTACH;FMTTYPE=image/png:https://www.sadiesofnewmexico.com/wp-content/uploads/2023/08/MargaritasConMusica.png
END:VEVENT
BEGIN:VEVENT
DTSTART;TZID=UTC:20230825T233000
DTEND;TZID=UTC:20230826T023000
DTSTAMP:20260421T054635
CREATED:20230807T171739Z
LAST-MODIFIED:20230815T172626Z
UID:1803-1693006200-1693017000@www.sadiesofnewmexico.com
SUMMARY:Margaritas Y Musica
DESCRIPTION:? Join us for “Margaritas con Musica” – Live Music by Lyrique Music Group on the Patio at Sadie’s 4th St. Don’t miss the fiesta! ? 
URL:https://www.sadiesofnewmexico.com/event/margaritas-con-musica-3/
LOCATION:Sadie’s on 4th St.\, 6230 Fourth St\, Albuquerque\, NM\, 87107\, United States
ATTACH;FMTTYPE=image/png:https://www.sadiesofnewmexico.com/wp-content/uploads/2023/08/MargaritasConMusica.png
END:VEVENT
BEGIN:VEVENT
DTSTART;TZID=UTC:20230819T233000
DTEND;TZID=UTC:20230820T023000
DTSTAMP:20260421T054635
CREATED:20230807T171418Z
LAST-MODIFIED:20230815T172650Z
UID:1800-1692487800-1692498600@www.sadiesofnewmexico.com
SUMMARY:Margaritas Y Musica
DESCRIPTION:? Join us for “Margaritas con Musica” – Live Music by Lyrique Music Group on the Patio at Sadie’s 4th St. Don’t miss the fiesta! ? 
URL:https://www.sadiesofnewmexico.com/event/margaritas-con-musica-2/
LOCATION:Sadie’s on 4th St.\, 6230 Fourth St\, Albuquerque\, NM\, 87107\, United States
ATTACH;FMTTYPE=image/png:https://www.sadiesofnewmexico.com/wp-content/uploads/2023/08/MargaritasConMusica.png
END:VEVENT
BEGIN:VEVENT
DTSTART;TZID=UTC:20230811T233000
DTEND;TZID=UTC:20230812T023000
DTSTAMP:20260421T054635
CREATED:20230807T170538Z
LAST-MODIFIED:20230815T172701Z
UID:1798-1691796600-1691807400@www.sadiesofnewmexico.com
SUMMARY:Margaritas Y Musica
DESCRIPTION:? Join us for “Margaritas con Musica” – Live Music by Lyrique Music Group on the Patio at Sadie’s 4th St. Don’t miss the fiesta! ? 
URL:https://www.sadiesofnewmexico.com/event/margaritas-con-musica/
LOCATION:Sadie’s on 4th St.\, 6230 Fourth St\, Albuquerque\, NM\, 87107\, United States
ATTACH;FMTTYPE=image/png:https://www.sadiesofnewmexico.com/wp-content/uploads/2023/08/MargaritasConMusica.png
END:VEVENT
BEGIN:VEVENT
DTSTART;TZID=UTC:20230505T110000
DTEND;TZID=UTC:20230505T220000
DTSTAMP:20260421T054635
CREATED:20230426T025547Z
LAST-MODIFIED:20230426T201258Z
UID:1743-1683284400-1683324000@www.sadiesofnewmexico.com
SUMMARY:Celebrate Cinco De Mayo with Us!
DESCRIPTION:Join us at Sadie’s of New Mexico 4th Street for a festive Cinco de Mayo celebration! \nWe’re thrilled to offer an exciting day with live music starting at 11am and again at 6pm\, delicious street tacos\, and amazing drink specials all day long. \nEnjoy a variety of drink options including the Perfect Patron Margarita\, Teremana Grand Gold Margarita\, Modelo Oro\, Milagro Silvery Raspberry Margarita\, and Jose Cuervo Tradicional Prickly Pear Margarita\, all crafted to perfection by our expert bartenders. \nDon’t forget to participate in our giveaways and other exciting surprises throughout the day. \nSo gather your amigos and join us for a festive Cinco De Mayo celebration at Sadie’s of New Mexico!
URL:https://www.sadiesofnewmexico.com/event/celebrate-cinco-de-mayo-with-us/
LOCATION:Sadie’s on 4th St.\, 6230 Fourth St\, Albuquerque\, NM\, 87107\, United States
ATTACH;FMTTYPE=image/png:https://www.sadiesofnewmexico.com/wp-content/uploads/2023/04/05-may-2023.png
END:VEVENT
BEGIN:VEVENT
DTSTART;TZID=UTC:20230323T180000
DTEND;TZID=UTC:20230323T203000
DTSTAMP:20260421T054635
CREATED:20230316T205300Z
LAST-MODIFIED:20230323T222643Z
UID:1712-1679594400-1679603400@www.sadiesofnewmexico.com
SUMMARY:Desert Dining Series: Spring in the Valley
DESCRIPTION:Get ready for a culinary adventure like no other! Experience the unique flavors of  Sadie’s Desert Dining Series event! On March 23rd at 6 pm\, join us at our 4th St location for “Spring in The Valley\,” a four-course meal crafted by Sadie’s talented chefs and paired with Santa Fe Brewery Beer. Savor the essence of the high desert as you indulge in delicious dishes and signature drinks. Don’t miss out on this unforgettable dining experience – tickets are $50 per person. Gather your friends and make memories over a night of good food\, good drinks\, and good company.
URL:https://www.sadiesofnewmexico.com/event/desert-dining-series-spring-in-the-valley/
LOCATION:Sadie’s on 4th St.\, 6230 Fourth St\, Albuquerque\, NM\, 87107\, United States
ATTACH;FMTTYPE=image/png:https://www.sadiesofnewmexico.com/wp-content/uploads/2023/03/Springin-the-valley-event-banner-2.png
END:VEVENT
BEGIN:VEVENT
DTSTART;TZID=UTC:20230309T180000
DTEND;TZID=UTC:20230309T220000
DTSTAMP:20260421T054635
CREATED:20230302T015142Z
LAST-MODIFIED:20230310T000901Z
UID:1658-1678384800-1678399200@www.sadiesofnewmexico.com
SUMMARY:Desert Dining Series: Vibes in the Valley
DESCRIPTION:Join us for the next event in our Desert Dining Series\, Vibes in the Valley. Indulge in a four-course meal featuring savory dishes such as Poblano Queso & Fresh Tostadas and Rosemary Ribeye with Fingerling Potatos & Garden Greens\, all perfectly paired with unique cocktails including Lavender Gin Limonada and Single Malt Chocolate Martini ? \nAnd don’t forget to save room for dessert with our Hot Churros & Strawberry Fudge and Cinnamon Pinon Dessert Shot. This exclusive event is taking place on March 9th at Sadie’s 4th St. Make your reservation now to ensure you don’t miss out on this unforgettable culinary experience.
URL:https://www.sadiesofnewmexico.com/event/desert-dining-series-vibes-in-the-valley/
LOCATION:Sadie’s on 4th St.\, 6230 Fourth St\, Albuquerque\, NM\, 87107\, United States
ATTACH;FMTTYPE=image/png:https://www.sadiesofnewmexico.com/wp-content/uploads/2023/03/1_25.png
END:VEVENT
END:VCALENDAR