BEGIN:VCALENDAR
VERSION:2.0
PRODID:-//Sadie&#039;s of New Mexico - ECPv6.15.14//NONSGML v1.0//EN
CALSCALE:GREGORIAN
METHOD:PUBLISH
X-WR-CALNAME:Sadie&#039;s of New Mexico
X-ORIGINAL-URL:https://www.sadiesofnewmexico.com
X-WR-CALDESC:Events for Sadie&#039;s of New Mexico
REFRESH-INTERVAL;VALUE=DURATION:PT1H
X-Robots-Tag:noindex
X-PUBLISHED-TTL:PT1H
BEGIN:VTIMEZONE
TZID:UTC
BEGIN:STANDARD
TZOFFSETFROM:+0000
TZOFFSETTO:+0000
TZNAME:UTC
DTSTART:20230101T000000
END:STANDARD
END:VTIMEZONE
BEGIN:VEVENT
DTSTART;TZID=UTC:20241212T180000
DTEND;TZID=UTC:20241212T200000
DTSTAMP:20260420T232019
CREATED:20241025T175657Z
LAST-MODIFIED:20241212T210212Z
UID:2219-1734026400-1734033600@www.sadiesofnewmexico.com
SUMMARY:Eryn Bent
DESCRIPTION:Live Music on our Outdoor Patio
URL:https://www.sadiesofnewmexico.com/event/eryn-bent-4/
END:VEVENT
BEGIN:VEVENT
DTSTART;TZID=UTC:20241205T180000
DTEND;TZID=UTC:20241205T200000
DTSTAMP:20260420T232019
CREATED:20241025T175904Z
LAST-MODIFIED:20241025T175904Z
UID:2223-1733421600-1733428800@www.sadiesofnewmexico.com
SUMMARY:2 Blue Hombres
DESCRIPTION:Live Music on our Outdoor Patio
URL:https://www.sadiesofnewmexico.com/event/2-blue-hombres-2/
END:VEVENT
BEGIN:VEVENT
DTSTART;TZID=UTC:20241121T180000
DTEND;TZID=UTC:20241121T200000
DTSTAMP:20260420T232019
CREATED:20241025T175532Z
LAST-MODIFIED:20241025T175532Z
UID:2217-1732212000-1732219200@www.sadiesofnewmexico.com
SUMMARY:Eryn Bent
DESCRIPTION:Live Music on our Outdoor Patio
URL:https://www.sadiesofnewmexico.com/event/eryn-bent-3/
END:VEVENT
BEGIN:VEVENT
DTSTART;TZID=UTC:20241114T180000
DTEND;TZID=UTC:20241114T200000
DTSTAMP:20260420T232019
CREATED:20241025T175435Z
LAST-MODIFIED:20241025T175435Z
UID:2214-1731607200-1731614400@www.sadiesofnewmexico.com
SUMMARY:Rick Rael
DESCRIPTION:Live Music on our Outdoor Patio
URL:https://www.sadiesofnewmexico.com/event/rick-rael-3/
END:VEVENT
BEGIN:VEVENT
DTSTART;TZID=UTC:20241107T180000
DTEND;TZID=UTC:20241107T200000
DTSTAMP:20260420T232019
CREATED:20241021T185753Z
LAST-MODIFIED:20241105T202536Z
UID:2190-1731002400-1731009600@www.sadiesofnewmexico.com
SUMMARY:Jamie Harrison
DESCRIPTION:Live Music on our Outdoor Patio
URL:https://www.sadiesofnewmexico.com/event/jamie-harrison-6/
END:VEVENT
BEGIN:VEVENT
DTSTART;TZID=UTC:20241024T180000
DTEND;TZID=UTC:20241024T200000
DTSTAMP:20260420T232019
CREATED:20240906T205424Z
LAST-MODIFIED:20240906T205656Z
UID:2121-1729792800-1729800000@www.sadiesofnewmexico.com
SUMMARY:Shane Wallin
DESCRIPTION:Playing live at Sadie’s Patio!
URL:https://www.sadiesofnewmexico.com/event/shane-wallin-3/
LOCATION:Sadie’s on 4th St.\, 6230 Fourth St\, Albuquerque\, NM\, 87107\, United States
END:VEVENT
BEGIN:VEVENT
DTSTART;TZID=UTC:20241017T180000
DTEND;TZID=UTC:20241017T200000
DTSTAMP:20260420T232019
CREATED:20240906T205328Z
LAST-MODIFIED:20240906T205723Z
UID:2119-1729188000-1729195200@www.sadiesofnewmexico.com
SUMMARY:Randy Unruh
DESCRIPTION:Playing live at Sadie’s Patio!
URL:https://www.sadiesofnewmexico.com/event/randy-unruh-3/
LOCATION:Sadie’s on 4th St.\, 6230 Fourth St\, Albuquerque\, NM\, 87107\, United States
END:VEVENT
BEGIN:VEVENT
DTSTART;TZID=UTC:20241013T180000
DTEND;TZID=UTC:20241013T200000
DTSTAMP:20260420T232019
CREATED:20240906T210410Z
LAST-MODIFIED:20240906T210410Z
UID:2142-1728842400-1728849600@www.sadiesofnewmexico.com
SUMMARY:Turner and Grimes
DESCRIPTION:Playing live music from Sadie’s patio!
URL:https://www.sadiesofnewmexico.com/event/turner-and-grimes-5/
LOCATION:Sadie’s on 4th St.\, 6230 Fourth St\, Albuquerque\, NM\, 87107\, United States
END:VEVENT
BEGIN:VEVENT
DTSTART;TZID=UTC:20241012T180000
DTEND;TZID=UTC:20241012T200000
DTSTAMP:20260420T232019
CREATED:20240906T210340Z
LAST-MODIFIED:20240906T210340Z
UID:2140-1728756000-1728763200@www.sadiesofnewmexico.com
SUMMARY:Flat Champagne
DESCRIPTION:Playing live music from Sadie’s patio!
URL:https://www.sadiesofnewmexico.com/event/flat-champagne-8/
LOCATION:Sadie’s on 4th St.\, 6230 Fourth St\, Albuquerque\, NM\, 87107\, United States
END:VEVENT
BEGIN:VEVENT
DTSTART;TZID=UTC:20241011T180000
DTEND;TZID=UTC:20241011T200000
DTSTAMP:20260420T232019
CREATED:20240906T210258Z
LAST-MODIFIED:20240906T210258Z
UID:2138-1728669600-1728676800@www.sadiesofnewmexico.com
SUMMARY:Flat Champagne
DESCRIPTION:Playing live music from Sadie’s patio!
URL:https://www.sadiesofnewmexico.com/event/flat-champagne-7/
LOCATION:Sadie’s on 4th St.\, 6230 Fourth St\, Albuquerque\, NM\, 87107\, United States
END:VEVENT
BEGIN:VEVENT
DTSTART;TZID=UTC:20241010T180000
DTEND;TZID=UTC:20241010T200000
DTSTAMP:20260420T232019
CREATED:20240906T210646Z
LAST-MODIFIED:20240906T210646Z
UID:2144-1728583200-1728590400@www.sadiesofnewmexico.com
SUMMARY:2 Blue Hombres
DESCRIPTION:Playing live music from Sadie’s patio!
URL:https://www.sadiesofnewmexico.com/event/2-blue-hombres-3/
LOCATION:Sadie’s on 4th St.\, 6230 Fourth St\, Albuquerque\, NM\, 87107\, United States
END:VEVENT
BEGIN:VEVENT
DTSTART;TZID=UTC:20241009T180000
DTEND;TZID=UTC:20241009T200000
DTSTAMP:20260420T232019
CREATED:20240906T210154Z
LAST-MODIFIED:20240906T211028Z
UID:2134-1728496800-1728504000@www.sadiesofnewmexico.com
SUMMARY:Lyrique Vocal Group
DESCRIPTION:Playing live music from Sadie’s patio!
URL:https://www.sadiesofnewmexico.com/event/lyric-vocal-group-2/
LOCATION:Sadie’s on 4th St.\, 6230 Fourth St\, Albuquerque\, NM\, 87107\, United States
END:VEVENT
BEGIN:VEVENT
DTSTART;TZID=UTC:20241008T180000
DTEND;TZID=UTC:20241008T200000
DTSTAMP:20260420T232019
CREATED:20240906T210118Z
LAST-MODIFIED:20240906T210118Z
UID:2132-1728410400-1728417600@www.sadiesofnewmexico.com
SUMMARY:Turner and Grimes
DESCRIPTION:Playing live music from Sadie’s patio!
URL:https://www.sadiesofnewmexico.com/event/turner-and-grimes-4/
LOCATION:Sadie’s on 4th St.\, 6230 Fourth St\, Albuquerque\, NM\, 87107\, United States
END:VEVENT
BEGIN:VEVENT
DTSTART;TZID=UTC:20241007T180000
DTEND;TZID=UTC:20241007T200000
DTSTAMP:20260420T232019
CREATED:20240906T210041Z
LAST-MODIFIED:20240906T210041Z
UID:2130-1728324000-1728331200@www.sadiesofnewmexico.com
SUMMARY:C. Marshall Nelson
DESCRIPTION:
URL:https://www.sadiesofnewmexico.com/event/c-marshall-nelson/
LOCATION:Sadie’s on 4th St.\, 6230 Fourth St\, Albuquerque\, NM\, 87107\, United States
END:VEVENT
BEGIN:VEVENT
DTSTART;TZID=UTC:20241006T180000
DTEND;TZID=UTC:20241006T200000
DTSTAMP:20260420T232019
CREATED:20240906T210002Z
LAST-MODIFIED:20240906T210002Z
UID:2128-1728237600-1728244800@www.sadiesofnewmexico.com
SUMMARY:Rick Rael
DESCRIPTION:Playing live music from Sadie’s patio!
URL:https://www.sadiesofnewmexico.com/event/rick-rael-2/
LOCATION:Sadie’s on 4th St.\, 6230 Fourth St\, Albuquerque\, NM\, 87107\, United States
END:VEVENT
BEGIN:VEVENT
DTSTART;TZID=UTC:20241005T180000
DTEND;TZID=UTC:20241005T200000
DTSTAMP:20260420T232019
CREATED:20240906T205621Z
LAST-MODIFIED:20240906T205851Z
UID:2125-1728151200-1728158400@www.sadiesofnewmexico.com
SUMMARY:CJ and the Blackhorse Band
DESCRIPTION:Playing live country music from Sadie’s patio!
URL:https://www.sadiesofnewmexico.com/event/cj-and-the-blackhorse-band-3/
LOCATION:Sadie’s on 4th St.\, 6230 Fourth St\, Albuquerque\, NM\, 87107\, United States
END:VEVENT
BEGIN:VEVENT
DTSTART;TZID=UTC:20241004T180000
DTEND;TZID=UTC:20241004T200000
DTSTAMP:20260420T232019
CREATED:20240906T205529Z
LAST-MODIFIED:20240906T210951Z
UID:2123-1728064800-1728072000@www.sadiesofnewmexico.com
SUMMARY:Lyrique Vocal Group
DESCRIPTION:Playing live at Sadie’s patio!
URL:https://www.sadiesofnewmexico.com/event/lyric-vocal-group/
LOCATION:Sadie’s on 4th St.\, 6230 Fourth St\, Albuquerque\, NM\, 87107\, United States
END:VEVENT
BEGIN:VEVENT
DTSTART;TZID=UTC:20241003T180000
DTEND;TZID=UTC:20241003T200000
DTSTAMP:20260420T232019
CREATED:20240906T205226Z
LAST-MODIFIED:20240906T205226Z
UID:2115-1727978400-1727985600@www.sadiesofnewmexico.com
SUMMARY:2 Blue Hombres
DESCRIPTION:Playing live at Sadie’s Patio!
URL:https://www.sadiesofnewmexico.com/event/2-blue-hombres/
END:VEVENT
BEGIN:VEVENT
DTSTART;TZID=UTC:20240926T180000
DTEND;TZID=UTC:20240926T200000
DTSTAMP:20260420T232019
CREATED:20240906T205140Z
LAST-MODIFIED:20240906T205140Z
UID:2113-1727373600-1727380800@www.sadiesofnewmexico.com
SUMMARY:CJ and the Blackhorse Band
DESCRIPTION:Playing live at Sadie’s Patio!
URL:https://www.sadiesofnewmexico.com/event/cj-and-the-blackhorse-band-2/
LOCATION:Sadie’s on 4th St.\, 6230 Fourth St\, Albuquerque\, NM\, 87107\, United States
END:VEVENT
BEGIN:VEVENT
DTSTART;TZID=UTC:20240919T180000
DTEND;TZID=UTC:20240919T200000
DTSTAMP:20260420T232019
CREATED:20240906T205053Z
LAST-MODIFIED:20240906T205053Z
UID:2111-1726768800-1726776000@www.sadiesofnewmexico.com
SUMMARY:Randy Unruh
DESCRIPTION:Playing live at Sadie’s Patio!
URL:https://www.sadiesofnewmexico.com/event/randy-unruh-2/
LOCATION:Sadie’s on 4th St.\, 6230 Fourth St\, Albuquerque\, NM\, 87107\, United States
END:VEVENT
BEGIN:VEVENT
DTSTART;TZID=UTC:20240912T180000
DTEND;TZID=UTC:20240912T200000
DTSTAMP:20260420T232019
CREATED:20240906T204956Z
LAST-MODIFIED:20240906T204956Z
UID:2108-1726164000-1726171200@www.sadiesofnewmexico.com
SUMMARY:Flat Champagne
DESCRIPTION:Playing live at Sadie’s Patio!
URL:https://www.sadiesofnewmexico.com/event/flat-champagne-6/
LOCATION:Sadie’s on 4th St.\, 6230 Fourth St\, Albuquerque\, NM\, 87107\, United States
END:VEVENT
BEGIN:VEVENT
DTSTART;TZID=UTC:20240829T180000
DTEND;TZID=UTC:20240829T200000
DTSTAMP:20260420T232019
CREATED:20240718T180144Z
LAST-MODIFIED:20240718T180144Z
UID:2097-1724954400-1724961600@www.sadiesofnewmexico.com
SUMMARY:Jaeden Huenemann
DESCRIPTION:Live music on our outdoor patio
URL:https://www.sadiesofnewmexico.com/event/jaeden-huenemann/
END:VEVENT
BEGIN:VEVENT
DTSTART;TZID=UTC:20240822T180000
DTEND;TZID=UTC:20240822T200000
DTSTAMP:20260420T232019
CREATED:20240718T180110Z
LAST-MODIFIED:20240718T180110Z
UID:2095-1724349600-1724356800@www.sadiesofnewmexico.com
SUMMARY:CJ and the Blackhorse Band
DESCRIPTION:Live music on our outdoor patio
URL:https://www.sadiesofnewmexico.com/event/cj-and-the-blackhorse-band/
END:VEVENT
BEGIN:VEVENT
DTSTART;TZID=UTC:20240815T180000
DTEND;TZID=UTC:20240815T200000
DTSTAMP:20260420T232019
CREATED:20240718T175808Z
LAST-MODIFIED:20240718T175808Z
UID:2093-1723744800-1723752000@www.sadiesofnewmexico.com
SUMMARY:Lyrique Music Trio
DESCRIPTION:Live music on our outdoor patio
URL:https://www.sadiesofnewmexico.com/event/lyrique-music-trio/
END:VEVENT
BEGIN:VEVENT
DTSTART;TZID=UTC:20240808T180000
DTEND;TZID=UTC:20240808T200000
DTSTAMP:20260420T232019
CREATED:20240718T174500Z
LAST-MODIFIED:20240718T174500Z
UID:2091-1723140000-1723147200@www.sadiesofnewmexico.com
SUMMARY:Flat Champagne
DESCRIPTION:Live music on the patio
URL:https://www.sadiesofnewmexico.com/event/flat-champagne-5/
END:VEVENT
BEGIN:VEVENT
DTSTART;TZID=UTC:20240801T183000
DTEND;TZID=UTC:20240801T200000
DTSTAMP:20260420T232019
CREATED:20240705T210759Z
LAST-MODIFIED:20240705T210759Z
UID:2088-1722537000-1722542400@www.sadiesofnewmexico.com
SUMMARY:Turner and Grimes
DESCRIPTION:Live Music on the Patio at Sadie’s on 4th Street
URL:https://www.sadiesofnewmexico.com/event/turner-and-grimes-3/
END:VEVENT
BEGIN:VEVENT
DTSTART;TZID=UTC:20240725T180000
DTEND;TZID=UTC:20240725T200000
DTSTAMP:20260420T232019
CREATED:20240705T210630Z
LAST-MODIFIED:20240705T210630Z
UID:2086-1721930400-1721937600@www.sadiesofnewmexico.com
SUMMARY:CJ Country Music
DESCRIPTION:Live Music on the Patio at Sadie’s on 4th Street
URL:https://www.sadiesofnewmexico.com/event/cj-country-music/
END:VEVENT
BEGIN:VEVENT
DTSTART;TZID=UTC:20240718T180000
DTEND;TZID=UTC:20240718T200000
DTSTAMP:20260420T232019
CREATED:20240705T203918Z
LAST-MODIFIED:20240705T203918Z
UID:2084-1721325600-1721332800@www.sadiesofnewmexico.com
SUMMARY:Eryn Bent
DESCRIPTION:Live Music on the Patio at Sadie’s on 4th Street
URL:https://www.sadiesofnewmexico.com/event/eryn-bent-2/
END:VEVENT
BEGIN:VEVENT
DTSTART;TZID=UTC:20240711T180000
DTEND;TZID=UTC:20240711T200000
DTSTAMP:20260420T232019
CREATED:20240705T203836Z
LAST-MODIFIED:20240705T203836Z
UID:2082-1720720800-1720728000@www.sadiesofnewmexico.com
SUMMARY:Rick Rael
DESCRIPTION:Live Music on the Patio at Sadie’s on 4th Street
URL:https://www.sadiesofnewmexico.com/event/rick-rael/
END:VEVENT
BEGIN:VEVENT
DTSTART;TZID=UTC:20240627T180000
DTEND;TZID=UTC:20240627T200000
DTSTAMP:20260420T232019
CREATED:20240514T161515Z
LAST-MODIFIED:20240514T162845Z
UID:2062-1719511200-1719518400@www.sadiesofnewmexico.com
SUMMARY:Jamie Harrison
DESCRIPTION:Live Music on the Outdoor Patio
URL:https://www.sadiesofnewmexico.com/event/jamie-harrison-5/
END:VEVENT
END:VCALENDAR