BEGIN:VCALENDAR
VERSION:2.0
PRODID:-//Sadie&#039;s of New Mexico - ECPv6.15.14//NONSGML v1.0//EN
CALSCALE:GREGORIAN
METHOD:PUBLISH
X-WR-CALNAME:Sadie&#039;s of New Mexico
X-ORIGINAL-URL:https://www.sadiesofnewmexico.com
X-WR-CALDESC:Events for Sadie&#039;s of New Mexico
REFRESH-INTERVAL;VALUE=DURATION:PT1H
X-Robots-Tag:noindex
X-PUBLISHED-TTL:PT1H
BEGIN:VTIMEZONE
TZID:UTC
BEGIN:STANDARD
TZOFFSETFROM:+0000
TZOFFSETTO:+0000
TZNAME:UTC
DTSTART:20250101T000000
END:STANDARD
END:VTIMEZONE
BEGIN:VEVENT
DTSTART;TZID=UTC:20260409T180000
DTEND;TZID=UTC:20260409T200000
DTSTAMP:20260420T154158
CREATED:20260330T141405Z
LAST-MODIFIED:20260330T141405Z
UID:3473-1775757600-1775764800@www.sadiesofnewmexico.com
SUMMARY:Rick Rael
DESCRIPTION:Come join us for live music on our outdoor patio!
URL:https://www.sadiesofnewmexico.com/event/rick-rael-12/
END:VEVENT
BEGIN:VEVENT
DTSTART;TZID=UTC:20260416T180000
DTEND;TZID=UTC:20260416T200000
DTSTAMP:20260420T154158
CREATED:20260330T141452Z
LAST-MODIFIED:20260330T141452Z
UID:3475-1776362400-1776369600@www.sadiesofnewmexico.com
SUMMARY:3 Blue Hombres
DESCRIPTION:Come join us for live music on our outdoor patio!
URL:https://www.sadiesofnewmexico.com/event/3-blue-hombres-4/
END:VEVENT
BEGIN:VEVENT
DTSTART;TZID=UTC:20260418T180000
DTEND;TZID=UTC:20260418T210000
DTSTAMP:20260420T154158
CREATED:20260330T141217Z
LAST-MODIFIED:20260330T141217Z
UID:3469-1776535200-1776546000@www.sadiesofnewmexico.com
SUMMARY:Hoedown on 4th Street
DESCRIPTION:Join us for live country music\, special food\, drinks\, dancing\, and awesome giveaways!
URL:https://www.sadiesofnewmexico.com/event/hoedown-on-4th-street/
END:VEVENT
BEGIN:VEVENT
DTSTART;TZID=UTC:20260423T180000
DTEND;TZID=UTC:20260423T200000
DTSTAMP:20260420T154158
CREATED:20260330T141521Z
LAST-MODIFIED:20260330T141521Z
UID:3477-1776967200-1776974400@www.sadiesofnewmexico.com
SUMMARY:Casey James Brooks
DESCRIPTION:Come join us for live music on our outdoor patio!
URL:https://www.sadiesofnewmexico.com/event/casey-james-brooks-4/
END:VEVENT
BEGIN:VEVENT
DTSTART;TZID=UTC:20260430T180000
DTEND;TZID=UTC:20260430T200000
DTSTAMP:20260420T154158
CREATED:20260330T141552Z
LAST-MODIFIED:20260330T141552Z
UID:3479-1777572000-1777579200@www.sadiesofnewmexico.com
SUMMARY:Randy Unruh
DESCRIPTION:Come join us for live music on our outdoor patio!
URL:https://www.sadiesofnewmexico.com/event/randy-unruh-9/
END:VEVENT
BEGIN:VEVENT
DTSTART;TZID=UTC:20260507T180000
DTEND;TZID=UTC:20260507T200000
DTSTAMP:20260420T154158
CREATED:20260420T145739Z
LAST-MODIFIED:20260420T145809Z
UID:3486-1778176800-1778184000@www.sadiesofnewmexico.com
SUMMARY:Turner & Grimes
DESCRIPTION:Come join us for live music on our outdoor patio!
URL:https://www.sadiesofnewmexico.com/event/turner-grimes-7/
END:VEVENT
BEGIN:VEVENT
DTSTART;TZID=UTC:20260509T080000
DTEND;TZID=UTC:20260509T110000
DTSTAMP:20260420T154158
CREATED:20260327T141909Z
LAST-MODIFIED:20260327T164916Z
UID:3465-1778313600-1778324400@www.sadiesofnewmexico.com
SUMMARY:Sadie's Food Truck @ The Growers' Market
DESCRIPTION:6718 Rio Grande Blvd NW
URL:https://www.sadiesofnewmexico.com/event/sadies-food-truck-the-growers-market/
END:VEVENT
BEGIN:VEVENT
DTSTART;TZID=UTC:20260514T180000
DTEND;TZID=UTC:20260514T200000
DTSTAMP:20260420T154158
CREATED:20260420T145919Z
LAST-MODIFIED:20260420T145919Z
UID:3488-1778781600-1778788800@www.sadiesofnewmexico.com
SUMMARY:Rick Rael
DESCRIPTION:Come join us for live music on our outdoor patio!
URL:https://www.sadiesofnewmexico.com/event/rick-rael-13/
END:VEVENT
BEGIN:VEVENT
DTSTART;TZID=UTC:20260521T180000
DTEND;TZID=UTC:20260521T200000
DTSTAMP:20260420T154158
CREATED:20260420T150311Z
LAST-MODIFIED:20260420T150311Z
UID:3490-1779386400-1779393600@www.sadiesofnewmexico.com
SUMMARY:Christine V with Ray Lucero
DESCRIPTION:Come join us for live music on our outdoor patio!
URL:https://www.sadiesofnewmexico.com/event/christine-v-with-ray-lucero/
END:VEVENT
BEGIN:VEVENT
DTSTART;TZID=UTC:20260523T080000
DTEND;TZID=UTC:20260523T110000
DTSTAMP:20260420T154158
CREATED:20260327T141943Z
LAST-MODIFIED:20260327T141943Z
UID:3467-1779523200-1779534000@www.sadiesofnewmexico.com
SUMMARY:Sadie's Food Truck @ The Growers' Market
DESCRIPTION:6718 Rio Grande Blvd NW
URL:https://www.sadiesofnewmexico.com/event/sadies-food-truck-the-growers-market-2/
END:VEVENT
BEGIN:VEVENT
DTSTART;TZID=UTC:20260528T180000
DTEND;TZID=UTC:20260528T200000
DTSTAMP:20260420T154158
CREATED:20260420T150348Z
LAST-MODIFIED:20260420T150348Z
UID:3492-1779991200-1779998400@www.sadiesofnewmexico.com
SUMMARY:Randy Unruh
DESCRIPTION:Come join us for live music on our outdoor patio!
URL:https://www.sadiesofnewmexico.com/event/randy-unruh-10/
END:VEVENT
END:VCALENDAR