BEGIN:VCALENDAR
VERSION:2.0
PRODID:-//Sadie&#039;s of New Mexico - ECPv6.15.14//NONSGML v1.0//EN
CALSCALE:GREGORIAN
METHOD:PUBLISH
X-WR-CALNAME:Sadie&#039;s of New Mexico
X-ORIGINAL-URL:https://www.sadiesofnewmexico.com
X-WR-CALDESC:Events for Sadie&#039;s of New Mexico
REFRESH-INTERVAL;VALUE=DURATION:PT1H
X-Robots-Tag:noindex
X-PUBLISHED-TTL:PT1H
BEGIN:VTIMEZONE
TZID:UTC
BEGIN:STANDARD
TZOFFSETFROM:+0000
TZOFFSETTO:+0000
TZNAME:UTC
DTSTART:20240101T000000
END:STANDARD
END:VTIMEZONE
BEGIN:VEVENT
DTSTART;TZID=UTC:20251012T180000
DTEND;TZID=UTC:20251012T200000
DTSTAMP:20260420T174726
CREATED:20250905T164647Z
LAST-MODIFIED:20250905T164647Z
UID:3259-1760292000-1760299200@www.sadiesofnewmexico.com
SUMMARY:Gilbert Uribe
DESCRIPTION:Come join us for live music on our outdoor patio!
URL:https://www.sadiesofnewmexico.com/event/gilbert-uribe-2/
END:VEVENT
BEGIN:VEVENT
DTSTART;TZID=UTC:20251011T180000
DTEND;TZID=UTC:20251011T200000
DTSTAMP:20260420T174726
CREATED:20250905T164621Z
LAST-MODIFIED:20250905T164621Z
UID:3257-1760205600-1760212800@www.sadiesofnewmexico.com
SUMMARY:3 Blue Hombres
DESCRIPTION:Come join us for live music on our outdoor patio!
URL:https://www.sadiesofnewmexico.com/event/3-blue-hombres-2/
END:VEVENT
BEGIN:VEVENT
DTSTART;TZID=UTC:20251010T180000
DTEND;TZID=UTC:20251010T200000
DTSTAMP:20260420T174726
CREATED:20250905T164556Z
LAST-MODIFIED:20250905T164556Z
UID:3255-1760119200-1760126400@www.sadiesofnewmexico.com
SUMMARY:Rick Rael
DESCRIPTION:Come join us for live music on our outdoor patio!
URL:https://www.sadiesofnewmexico.com/event/rick-rael-6/
END:VEVENT
BEGIN:VEVENT
DTSTART;TZID=UTC:20251009T180000
DTEND;TZID=UTC:20251009T200000
DTSTAMP:20260420T174726
CREATED:20250905T164102Z
LAST-MODIFIED:20250905T164102Z
UID:3233-1760032800-1760040000@www.sadiesofnewmexico.com
SUMMARY:Turner & Grimes
DESCRIPTION:Come join us for live music on our outdoor patio!
URL:https://www.sadiesofnewmexico.com/event/turner-grimes-4/
END:VEVENT
BEGIN:VEVENT
DTSTART;TZID=UTC:20251008T180000
DTEND;TZID=UTC:20251008T200000
DTSTAMP:20260420T174726
CREATED:20250905T164507Z
LAST-MODIFIED:20250905T164507Z
UID:3251-1759946400-1759953600@www.sadiesofnewmexico.com
SUMMARY:CJ and the Blackhorse
DESCRIPTION:Come join us for live music on our outdoor patio!
URL:https://www.sadiesofnewmexico.com/event/cj-and-the-blackhorse-3/
END:VEVENT
BEGIN:VEVENT
DTSTART;TZID=UTC:20251007T180000
DTEND;TZID=UTC:20251007T200000
DTSTAMP:20260420T174726
CREATED:20250905T164443Z
LAST-MODIFIED:20250905T164443Z
UID:3249-1759860000-1759867200@www.sadiesofnewmexico.com
SUMMARY:Shane Wallin
DESCRIPTION:Come join us for live music on our outdoor patio!
URL:https://www.sadiesofnewmexico.com/event/shane-wallin-5/
END:VEVENT
BEGIN:VEVENT
DTSTART;TZID=UTC:20251006T180000
DTEND;TZID=UTC:20251006T200000
DTSTAMP:20260420T174726
CREATED:20250905T164421Z
LAST-MODIFIED:20250905T164421Z
UID:3247-1759773600-1759780800@www.sadiesofnewmexico.com
SUMMARY:Mike Pirko
DESCRIPTION:Come join us for live music on our outdoor patio!
URL:https://www.sadiesofnewmexico.com/event/mike-pirko-2/
END:VEVENT
BEGIN:VEVENT
DTSTART;TZID=UTC:20251005T180000
DTEND;TZID=UTC:20251005T200000
DTSTAMP:20260420T174726
CREATED:20250905T164355Z
LAST-MODIFIED:20250905T164355Z
UID:3245-1759687200-1759694400@www.sadiesofnewmexico.com
SUMMARY:Rick Rael
DESCRIPTION:Come join us for live music on our outdoor patio!
URL:https://www.sadiesofnewmexico.com/event/rick-rael-5/
END:VEVENT
BEGIN:VEVENT
DTSTART;TZID=UTC:20251004T180000
DTEND;TZID=UTC:20251004T200000
DTSTAMP:20260420T174726
CREATED:20250905T164328Z
LAST-MODIFIED:20250929T140344Z
UID:3243-1759600800-1759608000@www.sadiesofnewmexico.com
SUMMARY:Coyote Call
DESCRIPTION:Come join us for live music on our outdoor patio!
URL:https://www.sadiesofnewmexico.com/event/coyote-call/
END:VEVENT
BEGIN:VEVENT
DTSTART;TZID=UTC:20251003T180000
DTEND;TZID=UTC:20251003T200000
DTSTAMP:20260420T174726
CREATED:20250905T164303Z
LAST-MODIFIED:20250905T164303Z
UID:3241-1759514400-1759521600@www.sadiesofnewmexico.com
SUMMARY:Gilbert Uribe
DESCRIPTION:Come join us for live music on our outdoor patio!
URL:https://www.sadiesofnewmexico.com/event/gilbert-uribe/
END:VEVENT
BEGIN:VEVENT
DTSTART;TZID=UTC:20250925T180000
DTEND;TZID=UTC:20250925T200000
DTSTAMP:20260420T174726
CREATED:20250812T145405Z
LAST-MODIFIED:20250812T145405Z
UID:3147-1758823200-1758830400@www.sadiesofnewmexico.com
SUMMARY:CJ and the Blackhorse
DESCRIPTION:Come join us for live music on our outdoor patio!
URL:https://www.sadiesofnewmexico.com/event/cj-and-the-blackhorse/
END:VEVENT
BEGIN:VEVENT
DTSTART;TZID=UTC:20250918T180000
DTEND;TZID=UTC:20250918T200000
DTSTAMP:20260420T174726
CREATED:20250812T145339Z
LAST-MODIFIED:20250812T145339Z
UID:3145-1758218400-1758225600@www.sadiesofnewmexico.com
SUMMARY:Austin Van
DESCRIPTION:Come join us for live music on our outdoor patio!
URL:https://www.sadiesofnewmexico.com/event/austin-van/
END:VEVENT
BEGIN:VEVENT
DTSTART;TZID=UTC:20250911T180000
DTEND;TZID=UTC:20250911T200000
DTSTAMP:20260420T174726
CREATED:20250812T145311Z
LAST-MODIFIED:20250812T145311Z
UID:3143-1757613600-1757620800@www.sadiesofnewmexico.com
SUMMARY:Sloan Armitage
DESCRIPTION:Come join us for live music on our outdoor patio!
URL:https://www.sadiesofnewmexico.com/event/sloan-armitage-2/
END:VEVENT
BEGIN:VEVENT
DTSTART;TZID=UTC:20250904T180000
DTEND;TZID=UTC:20250904T200000
DTSTAMP:20260420T174726
CREATED:20250812T145238Z
LAST-MODIFIED:20250812T145238Z
UID:3141-1757008800-1757016000@www.sadiesofnewmexico.com
SUMMARY:3 Blue Hombres ft Mikey Wright
DESCRIPTION:
URL:https://www.sadiesofnewmexico.com/event/3-blue-hombres-ft-mikey-wright-2/
END:VEVENT
BEGIN:VEVENT
DTSTART;TZID=UTC:20250828T180000
DTEND;TZID=UTC:20250828T200000
DTSTAMP:20260420T174726
CREATED:20250812T145210Z
LAST-MODIFIED:20250821T214005Z
UID:3139-1756404000-1756411200@www.sadiesofnewmexico.com
SUMMARY:CJ and the Blackhorse
DESCRIPTION:Come join us for live music on our outdoor patio!
URL:https://www.sadiesofnewmexico.com/event/3-blue-hombres-ft-mikey-wright/
END:VEVENT
BEGIN:VEVENT
DTSTART;TZID=UTC:20250821T180000
DTEND;TZID=UTC:20250821T200000
DTSTAMP:20260420T174726
CREATED:20250812T145547Z
LAST-MODIFIED:20250812T145547Z
UID:3149-1755799200-1755806400@www.sadiesofnewmexico.com
SUMMARY:Mike Pirko
DESCRIPTION:Come join us for live music on our outdoor patio!
URL:https://www.sadiesofnewmexico.com/event/mike-pirko/
END:VEVENT
BEGIN:VEVENT
DTSTART;TZID=UTC:20250529T180000
DTEND;TZID=UTC:20250529T200000
DTSTAMP:20260420T174726
CREATED:20250224T221015Z
LAST-MODIFIED:20250224T221015Z
UID:2458-1748541600-1748548800@www.sadiesofnewmexico.com
SUMMARY:Eryn Bent
DESCRIPTION:Come join us for live music on our outdoor patio!
URL:https://www.sadiesofnewmexico.com/event/eryn-bent-6/
END:VEVENT
BEGIN:VEVENT
DTSTART;TZID=UTC:20250522T180000
DTEND;TZID=UTC:20250522T200000
DTSTAMP:20260420T174726
CREATED:20250224T220944Z
LAST-MODIFIED:20250224T220944Z
UID:2456-1747936800-1747944000@www.sadiesofnewmexico.com
SUMMARY:Jamie Harrison
DESCRIPTION:Come join us for live music on our outdoor patio!
URL:https://www.sadiesofnewmexico.com/event/jamie-harrison-7/
END:VEVENT
BEGIN:VEVENT
DTSTART;TZID=UTC:20250515T180000
DTEND;TZID=UTC:20250515T200000
DTSTAMP:20260420T174726
CREATED:20250224T220823Z
LAST-MODIFIED:20250224T220823Z
UID:2454-1747332000-1747339200@www.sadiesofnewmexico.com
SUMMARY:Turner & Grimes
DESCRIPTION:Come join us for live music on our outdoor patio!
URL:https://www.sadiesofnewmexico.com/event/turner-grimes/
END:VEVENT
BEGIN:VEVENT
DTSTART;TZID=UTC:20250508T180000
DTEND;TZID=UTC:20250508T200000
DTSTAMP:20260420T174726
CREATED:20250224T220738Z
LAST-MODIFIED:20250224T220738Z
UID:2452-1746727200-1746734400@www.sadiesofnewmexico.com
SUMMARY:Randy Unruh
DESCRIPTION:Come join us for live music on our outdoor patio!
URL:https://www.sadiesofnewmexico.com/event/randy-unruh-4/
END:VEVENT
BEGIN:VEVENT
DTSTART;TZID=UTC:20250501T180000
DTEND;TZID=UTC:20250501T200000
DTSTAMP:20260420T174726
CREATED:20250224T220640Z
LAST-MODIFIED:20250224T220640Z
UID:2446-1746122400-1746129600@www.sadiesofnewmexico.com
SUMMARY:Shane Wallin
DESCRIPTION:Come join us for live music on our outdoor patio!
URL:https://www.sadiesofnewmexico.com/event/shane-wallin-4/
END:VEVENT
BEGIN:VEVENT
DTSTART;TZID=UTC:20250424T180000
DTEND;TZID=UTC:20250424T200000
DTSTAMP:20260420T174726
CREATED:20250224T220445Z
LAST-MODIFIED:20250225T162539Z
UID:2444-1745517600-1745524800@www.sadiesofnewmexico.com
SUMMARY:Lyric Vocal Group
DESCRIPTION:Come join us for live music on our outdoor patio!
URL:https://www.sadiesofnewmexico.com/event/lyric-vocal-group-5/
END:VEVENT
BEGIN:VEVENT
DTSTART;TZID=UTC:20250417T180000
DTEND;TZID=UTC:20250417T200000
DTSTAMP:20260420T174726
CREATED:20250224T220415Z
LAST-MODIFIED:20250224T220415Z
UID:2442-1744912800-1744920000@www.sadiesofnewmexico.com
SUMMARY:Eryn Bent
DESCRIPTION:Come join us for live music on our outdoor patio!
URL:https://www.sadiesofnewmexico.com/event/eryn-bent-5/
END:VEVENT
BEGIN:VEVENT
DTSTART;TZID=UTC:20250410T180000
DTEND;TZID=UTC:20250410T200000
DTSTAMP:20260420T174726
CREATED:20250224T220255Z
LAST-MODIFIED:20250224T220255Z
UID:2440-1744308000-1744315200@www.sadiesofnewmexico.com
SUMMARY:Sloan Armitage
DESCRIPTION:Come join us for live music on our outdoor patio!
URL:https://www.sadiesofnewmexico.com/event/sloan-armitage/
END:VEVENT
BEGIN:VEVENT
DTSTART;TZID=UTC:20250403T180000
DTEND;TZID=UTC:20250403T200000
DTSTAMP:20260420T174726
CREATED:20250224T220120Z
LAST-MODIFIED:20250224T220128Z
UID:2434-1743703200-1743710400@www.sadiesofnewmexico.com
SUMMARY:CJ and the Black Horse
DESCRIPTION:Come join us for live music on our outdoor patio!
URL:https://www.sadiesofnewmexico.com/event/cj-and-the-black-horse/
END:VEVENT
BEGIN:VEVENT
DTSTART;TZID=UTC:20250327T180000
DTEND;TZID=UTC:20250327T200000
DTSTAMP:20260420T174726
CREATED:20250312T221639Z
LAST-MODIFIED:20250327T152307Z
UID:2492-1743098400-1743105600@www.sadiesofnewmexico.com
SUMMARY:Tastes of Tuscany Pairing
DESCRIPTION:Tastes of Tuscany: An Italian Culinary Experience \nTransport yourself to the rolling hills of Italy with an evening filled with rich flavors at your local Sadie’s! Savor a carefully curated selection of Italian dishes\, each paired with the perfect drink to elevate your experience. Here are the details: \n? 21+? $70 per person?️ All-inclusive: gratuity included⏰ Starts at 6 PM on 03/27/25?️ Tickets available until 03/26/25 \nCome hungry and ready!
URL:https://www.sadiesofnewmexico.com/event/tastes-of-tuscany-pairing/
LOCATION:Sadie’s on 4th St.\, 6230 Fourth St\, Albuquerque\, NM\, 87107\, United States
END:VEVENT
BEGIN:VEVENT
DTSTART;TZID=UTC:20250327T180000
DTEND;TZID=UTC:20250327T200000
DTSTAMP:20260420T174726
CREATED:20250224T215627Z
LAST-MODIFIED:20250224T215627Z
UID:2432-1743098400-1743105600@www.sadiesofnewmexico.com
SUMMARY:Lyric Vocal Group
DESCRIPTION:
URL:https://www.sadiesofnewmexico.com/event/lyric-vocal-group-4/
END:VEVENT
BEGIN:VEVENT
DTSTART;TZID=UTC:20250320T180000
DTEND;TZID=UTC:20250320T200000
DTSTAMP:20260420T174726
CREATED:20250312T214858Z
LAST-MODIFIED:20250312T214858Z
UID:2490-1742493600-1742500800@www.sadiesofnewmexico.com
SUMMARY:Flat Champagne
DESCRIPTION:Come join us for live music on our outdoor patio!
URL:https://www.sadiesofnewmexico.com/event/flat-champagne-10/
END:VEVENT
BEGIN:VEVENT
DTSTART;TZID=UTC:20250313T180000
DTEND;TZID=UTC:20250313T200000
DTSTAMP:20260420T174726
CREATED:20241220T204008Z
LAST-MODIFIED:20241220T204008Z
UID:2325-1741888800-1741896000@www.sadiesofnewmexico.com
SUMMARY:Turner & Grimes
DESCRIPTION:Come join us for live music on our outdoor patio!
URL:https://www.sadiesofnewmexico.com/event/turner-grimes-3/
END:VEVENT
BEGIN:VEVENT
DTSTART;TZID=UTC:20250306T180000
DTEND;TZID=UTC:20250306T200000
DTSTAMP:20260420T174726
CREATED:20241220T203926Z
LAST-MODIFIED:20241220T203926Z
UID:2323-1741284000-1741291200@www.sadiesofnewmexico.com
SUMMARY:Rick Rael
DESCRIPTION:Come join us for live music on our outdoor patio!
URL:https://www.sadiesofnewmexico.com/event/rick-rael-4/
END:VEVENT
END:VCALENDAR