BEGIN:VCALENDAR
VERSION:2.0
PRODID:-//Sadie&#039;s of New Mexico - ECPv6.15.14//NONSGML v1.0//EN
CALSCALE:GREGORIAN
METHOD:PUBLISH
X-ORIGINAL-URL:https://www.sadiesofnewmexico.com
X-WR-CALDESC:Events for Sadie&#039;s of New Mexico
REFRESH-INTERVAL;VALUE=DURATION:PT1H
X-Robots-Tag:noindex
X-PUBLISHED-TTL:PT1H
BEGIN:VTIMEZONE
TZID:UTC
BEGIN:STANDARD
TZOFFSETFROM:+0000
TZOFFSETTO:+0000
TZNAME:UTC
DTSTART:20250101T000000
END:STANDARD
END:VTIMEZONE
BEGIN:VEVENT
DTSTART;TZID=UTC:20260423T180000
DTEND;TZID=UTC:20260423T200000
DTSTAMP:20260420T083608
CREATED:20260330T141521Z
LAST-MODIFIED:20260330T141521Z
UID:3477-1776967200-1776974400@www.sadiesofnewmexico.com
SUMMARY:Casey James Brooks
DESCRIPTION:Come join us for live music on our outdoor patio!
URL:https://www.sadiesofnewmexico.com/event/casey-james-brooks-4/
END:VEVENT
BEGIN:VEVENT
DTSTART;TZID=UTC:20260430T180000
DTEND;TZID=UTC:20260430T200000
DTSTAMP:20260420T083608
CREATED:20260330T141552Z
LAST-MODIFIED:20260330T141552Z
UID:3479-1777572000-1777579200@www.sadiesofnewmexico.com
SUMMARY:Randy Unruh
DESCRIPTION:Come join us for live music on our outdoor patio!
URL:https://www.sadiesofnewmexico.com/event/randy-unruh-9/
END:VEVENT
BEGIN:VEVENT
DTSTART;TZID=UTC:20260509T080000
DTEND;TZID=UTC:20260509T110000
DTSTAMP:20260420T083608
CREATED:20260327T141909Z
LAST-MODIFIED:20260327T164916Z
UID:3465-1778313600-1778324400@www.sadiesofnewmexico.com
SUMMARY:Sadie's Food Truck @ The Growers' Market
DESCRIPTION:6718 Rio Grande Blvd NW
URL:https://www.sadiesofnewmexico.com/event/sadies-food-truck-the-growers-market/
END:VEVENT
BEGIN:VEVENT
DTSTART;TZID=UTC:20260523T080000
DTEND;TZID=UTC:20260523T110000
DTSTAMP:20260420T083608
CREATED:20260327T141943Z
LAST-MODIFIED:20260327T141943Z
UID:3467-1779523200-1779534000@www.sadiesofnewmexico.com
SUMMARY:Sadie's Food Truck @ The Growers' Market
DESCRIPTION:6718 Rio Grande Blvd NW
URL:https://www.sadiesofnewmexico.com/event/sadies-food-truck-the-growers-market-2/
END:VEVENT
END:VCALENDAR